BEGIN:VCALENDAR
VERSION:2.0
PRODID:-//Pilgrim&#039;s Run - ECPv6.15.20//NONSGML v1.0//EN
CALSCALE:GREGORIAN
METHOD:PUBLISH
X-WR-CALNAME:Pilgrim&#039;s Run
X-ORIGINAL-URL:https://www.pilgrimsrun.com
X-WR-CALDESC:Events for Pilgrim&#039;s Run
REFRESH-INTERVAL;VALUE=DURATION:PT1H
X-Robots-Tag:noindex
X-PUBLISHED-TTL:PT1H
BEGIN:VTIMEZONE
TZID:UTC
BEGIN:STANDARD
TZOFFSETFROM:+0000
TZOFFSETTO:+0000
TZNAME:UTC
DTSTART:20250101T000000
END:STANDARD
END:VTIMEZONE
BEGIN:VEVENT
DTSTART;VALUE=DATE:20260601
DTEND;VALUE=DATE:20260602
DTSTAMP:20260423T160446
CREATED:20251112T052936Z
LAST-MODIFIED:20251112T052937Z
UID:2328-1780272000-1780358399@www.pilgrimsrun.com
SUMMARY:GRRTL 2026
DESCRIPTION:9:00 Shotgun
URL:https://www.pilgrimsrun.com/event/grrtl-2026/
LOCATION:Pilgrim’s Run Golf Club\, 11401 Newcosta Avenue\, Pierson\, MI\, 49339\, United States
END:VEVENT
BEGIN:VEVENT
DTSTART;VALUE=DATE:20260602
DTEND;VALUE=DATE:20260603
DTSTAMP:20260423T160446
CREATED:20251112T053058Z
LAST-MODIFIED:20251112T053058Z
UID:2330-1780358400-1780444799@www.pilgrimsrun.com
SUMMARY:Golf Association of Michigan 2026
DESCRIPTION:9:00 shotgun
URL:https://www.pilgrimsrun.com/event/golf-association-of-michigan-2026/
LOCATION:Pilgrim’s Run Golf Club\, 11401 Newcosta Avenue\, Pierson\, MI\, 49339\, United States
END:VEVENT
BEGIN:VEVENT
DTSTART;VALUE=DATE:20260609
DTEND;VALUE=DATE:20260610
DTSTAMP:20260423T160446
CREATED:20251112T053216Z
LAST-MODIFIED:20251112T053217Z
UID:2333-1780963200-1781049599@www.pilgrimsrun.com
SUMMARY:All Belong 2026
DESCRIPTION:9:00 shotgun
URL:https://www.pilgrimsrun.com/event/all-belong-2026/
LOCATION:Pilgrim’s Run Golf Club\, 11401 Newcosta Avenue\, Pierson\, MI\, 49339\, United States
END:VEVENT
BEGIN:VEVENT
DTSTART;VALUE=DATE:20260613
DTEND;VALUE=DATE:20260614
DTSTAMP:20260423T160446
CREATED:20251112T053319Z
LAST-MODIFIED:20251112T053319Z
UID:2335-1781308800-1781395199@www.pilgrimsrun.com
SUMMARY:VGA 2026
DESCRIPTION:9:30 shotgun
URL:https://www.pilgrimsrun.com/event/vga-2026/
LOCATION:Pilgrim’s Run Golf Club\, 11401 Newcosta Avenue\, Pierson\, MI\, 49339\, United States
END:VEVENT
BEGIN:VEVENT
DTSTART;VALUE=DATE:20260627
DTEND;VALUE=DATE:20260628
DTSTAMP:20260423T160446
CREATED:20251112T053506Z
LAST-MODIFIED:20251112T053506Z
UID:2337-1782518400-1782604799@www.pilgrimsrun.com
SUMMARY:Golfweek Amateur 2026
DESCRIPTION:10:00 Tee Times
URL:https://www.pilgrimsrun.com/event/golfweek-amateur-2026/
LOCATION:Pilgrim’s Run Golf Club\, 11401 Newcosta Avenue\, Pierson\, MI\, 49339\, United States
END:VEVENT
END:VCALENDAR