BEGIN:VCALENDAR
VERSION:2.0
PRODID:-//Pilgrim&#039;s Run - ECPv6.15.20//NONSGML v1.0//EN
CALSCALE:GREGORIAN
METHOD:PUBLISH
X-ORIGINAL-URL:https://www.pilgrimsrun.com
X-WR-CALDESC:Events for Pilgrim&#039;s Run
REFRESH-INTERVAL;VALUE=DURATION:PT1H
X-Robots-Tag:noindex
X-PUBLISHED-TTL:PT1H
BEGIN:VTIMEZONE
TZID:UTC
BEGIN:STANDARD
TZOFFSETFROM:+0000
TZOFFSETTO:+0000
TZNAME:UTC
DTSTART:20250101T000000
END:STANDARD
END:VTIMEZONE
BEGIN:VEVENT
DTSTART;VALUE=DATE:20260503
DTEND;VALUE=DATE:20260504
DTSTAMP:20260423T144119
CREATED:20251112T051139Z
LAST-MODIFIED:20251112T051140Z
UID:2301-1777766400-1777852799@www.pilgrimsrun.com
SUMMARY:Dennis Nault 2026
DESCRIPTION:11:00 Tee Times
URL:https://www.pilgrimsrun.com/event/dennis-nault-2026/
LOCATION:Pilgrim’s Run Golf Club\, 11401 Newcosta Avenue\, Pierson\, MI\, 49339\, United States
END:VEVENT
BEGIN:VEVENT
DTSTART;VALUE=DATE:20260504
DTEND;VALUE=DATE:20260505
DTSTAMP:20260423T144119
CREATED:20251112T051257Z
LAST-MODIFIED:20251112T051257Z
UID:2303-1777852800-1777939199@www.pilgrimsrun.com
SUMMARY:FCA/First Tee 2026
DESCRIPTION:All Day Marathon
URL:https://www.pilgrimsrun.com/event/fca-first-tee-2026/
LOCATION:Pilgrim’s Run Golf Club\, 11401 Newcosta Avenue\, Pierson\, MI\, 49339\, United States
END:VEVENT
BEGIN:VEVENT
DTSTART;VALUE=DATE:20260506
DTEND;VALUE=DATE:20260507
DTSTAMP:20260423T144119
CREATED:20251112T051439Z
LAST-MODIFIED:20251112T051439Z
UID:2305-1778025600-1778111999@www.pilgrimsrun.com
SUMMARY:Good Friends 2026
DESCRIPTION:9:00 am shotgun
URL:https://www.pilgrimsrun.com/event/good-friends-2026/
LOCATION:Pilgrim’s Run Golf Club\, 11401 Newcosta Avenue\, Pierson\, MI\, 49339\, United States
END:VEVENT
BEGIN:VEVENT
DTSTART;VALUE=DATE:20260508
DTEND;VALUE=DATE:20260509
DTSTAMP:20260423T144119
CREATED:20251112T051557Z
LAST-MODIFIED:20251112T051557Z
UID:2307-1778198400-1778284799@www.pilgrimsrun.com
SUMMARY:Grace Adventures 2026
DESCRIPTION:8:00 and 1:00 Shotgun
URL:https://www.pilgrimsrun.com/event/grace-adventures-2026/
LOCATION:Pilgrim’s Run Golf Club\, 11401 Newcosta Avenue\, Pierson\, MI\, 49339\, United States
END:VEVENT
BEGIN:VEVENT
DTSTART;VALUE=DATE:20260509
DTEND;VALUE=DATE:20260510
DTSTAMP:20260423T144119
CREATED:20251112T051736Z
LAST-MODIFIED:20251112T051736Z
UID:2309-1778284800-1778371199@www.pilgrimsrun.com
SUMMARY:Jim Shadduck 2026
DESCRIPTION:12:00 Tee Times
URL:https://www.pilgrimsrun.com/event/jim-shadduck-2026/
LOCATION:Pilgrim’s Run Golf Club\, 11401 Newcosta Avenue\, Pierson\, MI\, 49339\, United States
END:VEVENT
BEGIN:VEVENT
DTSTART;VALUE=DATE:20260511
DTEND;VALUE=DATE:20260512
DTSTAMP:20260423T144119
CREATED:20251112T051848Z
LAST-MODIFIED:20260304T164619Z
UID:2311-1778457600-1778543999@www.pilgrimsrun.com
SUMMARY:Calvinist Cadets 2026
DESCRIPTION:8:00 and 1:00 Shotgun \nCadets is a faith-based ministry with a mission of helping boys grow more Christlike in all areas of life. We partner with churches throughout the US and Canada. If you would like to see more information on Cadets\, please check us out at www.calvinistcadets.org.
URL:https://www.pilgrimsrun.com/event/calvinist-cadets-2026/
LOCATION:Pilgrim’s Run Golf Club\, 11401 Newcosta Avenue\, Pierson\, MI\, 49339\, United States
END:VEVENT
BEGIN:VEVENT
DTSTART;VALUE=DATE:20260512
DTEND;VALUE=DATE:20260513
DTSTAMP:20260423T144119
CREATED:20251112T052103Z
LAST-MODIFIED:20251112T052104Z
UID:2313-1778544000-1778630399@www.pilgrimsrun.com
SUMMARY:Bangala Ministries 2026
DESCRIPTION:8:30 Shotgun
URL:https://www.pilgrimsrun.com/event/bangala-ministries-2026/
LOCATION:Pilgrim’s Run Golf Club\, 11401 Newcosta Avenue\, Pierson\, MI\, 49339\, United States
END:VEVENT
BEGIN:VEVENT
DTSTART;VALUE=DATE:20260513
DTEND;VALUE=DATE:20260514
DTSTAMP:20260423T144119
CREATED:20251112T052234Z
LAST-MODIFIED:20251112T052234Z
UID:2315-1778630400-1778716799@www.pilgrimsrun.com
SUMMARY:GRWGA 2026
DESCRIPTION:9:00 Shotgun
URL:https://www.pilgrimsrun.com/event/grwga-2026/
LOCATION:Pilgrim’s Run Golf Club\, 11401 Newcosta Avenue\, Pierson\, MI\, 49339\, United States
END:VEVENT
BEGIN:VEVENT
DTSTART;VALUE=DATE:20260514
DTEND;VALUE=DATE:20260515
DTSTAMP:20260423T144119
CREATED:20251112T052350Z
LAST-MODIFIED:20251112T052350Z
UID:2317-1778716800-1778803199@www.pilgrimsrun.com
SUMMARY:Youth for Christ 2026
DESCRIPTION:9:00 am shotgun
URL:https://www.pilgrimsrun.com/event/youth-for-christ-2026/
LOCATION:Pilgrim’s Run Golf Club\, 11401 Newcosta Avenue\, Pierson\, MI\, 49339\, United States
END:VEVENT
BEGIN:VEVENT
DTSTART;VALUE=DATE:20260518
DTEND;VALUE=DATE:20260519
DTSTAMP:20260423T144119
CREATED:20251112T052459Z
LAST-MODIFIED:20251112T052459Z
UID:2319-1779062400-1779148799@www.pilgrimsrun.com
SUMMARY:Young Life Jessie 2026
DESCRIPTION:8:00 & 1:00 Shotgun
URL:https://www.pilgrimsrun.com/event/young-life-jessie-2026/
LOCATION:Pilgrim’s Run Golf Club\, 11401 Newcosta Avenue\, Pierson\, MI\, 49339\, United States
END:VEVENT
BEGIN:VEVENT
DTSTART;VALUE=DATE:20260519
DTEND;VALUE=DATE:20260520
DTSTAMP:20260423T144119
CREATED:20251112T052645Z
LAST-MODIFIED:20251112T052645Z
UID:2322-1779148800-1779235199@www.pilgrimsrun.com
SUMMARY:Young Life Jake 2026
DESCRIPTION:8:00 Shotgun
URL:https://www.pilgrimsrun.com/event/young-life-jake-2026/
LOCATION:Pilgrim’s Run Golf Club\, 11401 Newcosta Avenue\, Pierson\, MI\, 49339\, United States
END:VEVENT
BEGIN:VEVENT
DTSTART;VALUE=DATE:20260520
DTEND;VALUE=DATE:20260521
DTSTAMP:20260423T144119
CREATED:20251112T052740Z
LAST-MODIFIED:20251112T052740Z
UID:2324-1779235200-1779321599@www.pilgrimsrun.com
SUMMARY:River Country 2026
DESCRIPTION:8:30 Shotgun
URL:https://www.pilgrimsrun.com/event/river-country-2026/
LOCATION:Pilgrim’s Run Golf Club\, 11401 Newcosta Avenue\, Pierson\, MI\, 49339\, United States
END:VEVENT
BEGIN:VEVENT
DTSTART;VALUE=DATE:20260531
DTEND;VALUE=DATE:20260601
DTSTAMP:20260423T144119
CREATED:20251112T052844Z
LAST-MODIFIED:20251112T052845Z
UID:2326-1780185600-1780271999@www.pilgrimsrun.com
SUMMARY:Meijer Jr. Tour 2026
DESCRIPTION:7:00 Tee Times
URL:https://www.pilgrimsrun.com/event/meijer-jr-tour-2026/
LOCATION:Pilgrim’s Run Golf Club\, 11401 Newcosta Avenue\, Pierson\, MI\, 49339\, United States
END:VEVENT
END:VCALENDAR