BEGIN:VCALENDAR
VERSION:2.0
PRODID:-//Pilgrim&#039;s Run - ECPv6.15.20//NONSGML v1.0//EN
CALSCALE:GREGORIAN
METHOD:PUBLISH
X-ORIGINAL-URL:https://www.pilgrimsrun.com
X-WR-CALDESC:Events for Pilgrim&#039;s Run
REFRESH-INTERVAL;VALUE=DURATION:PT1H
X-Robots-Tag:noindex
X-PUBLISHED-TTL:PT1H
BEGIN:VTIMEZONE
TZID:UTC
BEGIN:STANDARD
TZOFFSETFROM:+0000
TZOFFSETTO:+0000
TZNAME:UTC
DTSTART:20250101T000000
END:STANDARD
END:VTIMEZONE
BEGIN:VEVENT
DTSTART;VALUE=DATE:20260627
DTEND;VALUE=DATE:20260628
DTSTAMP:20260423T173852
CREATED:20251112T053506Z
LAST-MODIFIED:20251112T053506Z
UID:2337-1782518400-1782604799@www.pilgrimsrun.com
SUMMARY:Golfweek Amateur 2026
DESCRIPTION:10:00 Tee Times
URL:https://www.pilgrimsrun.com/event/golfweek-amateur-2026/
LOCATION:Pilgrim’s Run Golf Club\, 11401 Newcosta Avenue\, Pierson\, MI\, 49339\, United States
END:VEVENT
END:VCALENDAR